BEGIN:VCALENDAR
VERSION:2.0
PRODID:-//eventon.com NONSGML v1.0//EN
BEGIN:VEVENT
UID:69eb5c228c39d
DTSTAMP:20260424T140346
DTSTART:20260509T110000Z
DTEND:20260509T150000Z
TZID:Europe/Amsterdam
LOCATION:
SUMMARY:Pop-up koor
DESCRIPTION: Pop-up koor\nhttps://spiritgospelpop.nl/events/pop-up-koor/
URL:https://spiritgospelpop.nl/events/pop-up-koor/
END:VEVENT
END:VCALENDAR